BEGIN:VCALENDAR
VERSION:2.0
PRODID:spatie/icalendar-generator
DESCRIPTION:Events from School of Liberal Arts
X-WR-CALDESC:Events from School of Liberal Arts
REFRESH-INTERVAL;VALUE=DURATION:PT1440M
X-PUBLISHED-TTL:PT1440M
BEGIN:VTIMEZONE
TZID:Etc/GMT+0
BEGIN:STANDARD
DTSTART:20240601T130000Z
TZOFFSETFROM:+0000
TZOFFSETTO:+0000
END:STANDARD
END:VTIMEZONE
BEGIN:VTIMEZONE
TZID:UTC
BEGIN:STANDARD
DTSTART:20250729T212958Z
TZOFFSETFROM:+0000
TZOFFSETTO:+0000
END:STANDARD
END:VTIMEZONE
BEGIN:VEVENT
UID:15-14
DTSTAMP:20260425T212958Z
SUMMARY:SLAE-MAPA Career Readiness Special Guests! (Student Center Cyber Lo
 unge) 1pm (2 RCT)
LOCATION:Student Center Cyber Lounge
ORGANIZER;CN=Dr. Demarr Woods:MAILTO:demarr.woods@hamptonu.edu
DTSTART;TZID=Etc/GMT+0:20250226T130000
DTEND;TZID=Etc/GMT+0:20250226T140000
X-ALT-DESC;FMTTYPE=TEXT/HTML:SESSION TITLE:  Music Business and Arts Admin
 istration in the 21st Century. Mr. Reynaldo Ramirez is Program Director an
 d Co-Founder of Soundscapes. Soundscapes is a nonprofit youth development 
 organization in Southeastern Virginia that uses music instruction and perf
 ormance to develop life skills instudents from early childhood to early ad
 ulthood. Mr. Ramirez is a seasoned musician and&amp;hellip\;
CATEGORIES:General
URL;VALUE=URI:https://home.hamptonu.edu/libarts/mc-events/slae-mapa-career-
 readiness-special-guests-student-center-cyber-lounge-1pm-2-rct/
METHOD:PUBLISH
END:VEVENT
END:VCALENDAR