BEGIN:VCALENDAR
VERSION:2.0
PRODID:spatie/icalendar-generator
DESCRIPTION:Events from School of Liberal Arts
X-WR-CALDESC:Events from School of Liberal Arts
REFRESH-INTERVAL;VALUE=DURATION:PT1440M
X-PUBLISHED-TTL:PT1440M
BEGIN:VTIMEZONE
TZID:Etc/GMT+0
BEGIN:STANDARD
DTSTART:20240601T140000Z
TZOFFSETFROM:+0000
TZOFFSETTO:+0000
END:STANDARD
END:VTIMEZONE
BEGIN:VTIMEZONE
TZID:UTC
BEGIN:STANDARD
DTSTART:20250727T064301Z
TZOFFSETFROM:+0000
TZOFFSETTO:+0000
END:STANDARD
END:VTIMEZONE
BEGIN:VEVENT
UID:16-15
DTSTAMP:20260423T064301Z
SUMMARY:SLAE-MAPA Caree Readiness Special Guests! (Student Center Cyber Lou
 nge) 2pm (2 RCT)
LOCATION:Student Center Cyber Lounge
ORGANIZER;CN=Dr. Demarr Woods:MAILTO:demarr.woods@hamptonu.edu
DTSTART;TZID=Etc/GMT+0:20250226T140000
DTEND;TZID=Etc/GMT+0:20250226T150000
X-ALT-DESC;FMTTYPE=TEXT/HTML:SESSION TITLE:  Bridging the in the Arts: Fro
 m Hampton to Yale Dr. Albert R. Lee is Associate Professor of Music and As
 sociate Dean for Student Life and Community Engagement at the Yale School 
 of Music. He has made a career as a classical vocalist in opera\, oratorio
 \, recital\, and liturgical musichaving appeared with Opera Theater&amp;hellip
 \;
CATEGORIES:General
URL;VALUE=URI:https://home.hamptonu.edu/libarts/mc-events/slae-mapa-caree-r
 eadiness-special-guests-student-center-cyber-lounge-2pm-2-rct/
METHOD:PUBLISH
END:VEVENT
END:VCALENDAR