BEGIN:VCALENDAR
VERSION:2.0
PRODID:spatie/icalendar-generator
DESCRIPTION:Events from School of Liberal Arts
X-WR-CALDESC:Events from School of Liberal Arts
REFRESH-INTERVAL;VALUE=DURATION:PT1440M
X-PUBLISHED-TTL:PT1440M
BEGIN:VTIMEZONE
TZID:Etc/GMT+0
BEGIN:STANDARD
DTSTART:20240601T160000Z
TZOFFSETFROM:+0000
TZOFFSETTO:+0000
END:STANDARD
END:VTIMEZONE
BEGIN:VTIMEZONE
TZID:UTC
BEGIN:STANDARD
DTSTART:20250729T204956Z
TZOFFSETFROM:+0000
TZOFFSETTO:+0000
END:STANDARD
END:VTIMEZONE
BEGIN:VEVENT
UID:17-16
DTSTAMP:20260425T204956Z
SUMMARY:SLAE-MAPA Career Readiness Special Guests! (Student Center Cyber Lo
 unge) 4pm (2 RCT)
LOCATION:Student Center Cyber Lounge
ORGANIZER;CN=Dr. Demarr Woods:MAILTO:demarr.woods@hamptonu.edu
DTSTART;TZID=Etc/GMT+0:20250226T160000
DTEND;TZID=Etc/GMT+0:20250226T170000
X-ALT-DESC;FMTTYPE=TEXT/HTML:SESSION TITLE: Enhancing Creativity: A Convers
 ation with the Director of Engagement at Virginia Stage Company. &amp;nbsp\; M
 s. Jordan Setzer is Director of Enrichment for the Virginia Stage Company.
  She has also served as Production Supervisor and Tour Manager and is a pr
 ofessional actor. Ms. Setzer has choreographed for the CapeFear Regional T
 heatre and has participated&amp;hellip\;
CATEGORIES:General
URL;VALUE=URI:https://home.hamptonu.edu/libarts/mc-events/slae-mapa-career-
 readiness-special-guests-student-center-cyber-lounge-4pm-2-rct/
METHOD:PUBLISH
END:VEVENT
END:VCALENDAR