BEGIN:VCALENDAR
VERSION:2.0
PRODID:spatie/icalendar-generator
DESCRIPTION:Events from School of Liberal Arts
X-WR-CALDESC:Events from School of Liberal Arts
REFRESH-INTERVAL;VALUE=DURATION:PT1440M
X-PUBLISHED-TTL:PT1440M
BEGIN:VTIMEZONE
TZID:Etc/GMT+0
BEGIN:STANDARD
DTSTART:20240701T170000Z
TZOFFSETFROM:+0000
TZOFFSETTO:+0000
END:STANDARD
END:VTIMEZONE
BEGIN:VTIMEZONE
TZID:UTC
BEGIN:STANDARD
DTSTART:20250729T112529Z
TZOFFSETFROM:+0000
TZOFFSETTO:+0000
END:STANDARD
END:VTIMEZONE
BEGIN:VEVENT
UID:26-25
DTSTAMP:20260425T112529Z
SUMMARY:Dr. Cunningham Trumpet Recital
LOCATION:OGDEN HALL
ORGANIZER;CN=Dr. Demarr Woods:MAILTO:demarr.woods@hamptonu.edu
DTSTART;TZID=Etc/GMT+0:20250328T170000
DTEND;TZID=Etc/GMT+0:20250328T180000
X-ALT-DESC;FMTTYPE=TEXT/HTML:
CATEGORIES:General
URL;VALUE=URI:https://home.hamptonu.edu/libarts/mc-events/dr-cunningham-tru
 mpet-recital/
METHOD:PUBLISH
END:VEVENT
END:VCALENDAR