BEGIN:VCALENDAR
VERSION:2.0
PRODID:spatie/icalendar-generator
DESCRIPTION:Events from School of Liberal Arts
X-WR-CALDESC:Events from School of Liberal Arts
REFRESH-INTERVAL;VALUE=DURATION:PT1440M
X-PUBLISHED-TTL:PT1440M
BEGIN:VTIMEZONE
TZID:Etc/GMT+0
BEGIN:STANDARD
DTSTART:20240707T000000Z
TZOFFSETFROM:+0000
TZOFFSETTO:+0000
END:STANDARD
END:VTIMEZONE
BEGIN:VTIMEZONE
TZID:UTC
BEGIN:STANDARD
DTSTART:20250729T235634Z
TZOFFSETFROM:+0000
TZOFFSETTO:+0000
END:STANDARD
END:VTIMEZONE
BEGIN:VEVENT
UID:32-31
DTSTAMP:20260425T235634Z
SUMMARY:1st Annual SLAE Student and Faculty Research Conference (Student Ce
 nter Ballroom) 9:30AM (2 RCT)
LOCATION:Student Center Ballroom
ORGANIZER;CN=Dr. Demarr Woods:MAILTO:demarr.woods@hamptonu.edu
DTSTART;TZID=Etc/GMT+0;VALUE=DATE:20250403
DTEND;TZID=Etc/GMT+0;VALUE=DATE:20250404
X-ALT-DESC;FMTTYPE=TEXT/HTML:1st Annual SLAE Student and Faculty Research C
 onference (Student Center Ballroom) 9:30AM Dr. Jackson Session &amp;nbsp\; &amp;nb
 sp\; &amp;nbsp\;
CATEGORIES:General
URL;VALUE=URI:https://home.hamptonu.edu/libarts/mc-events/1st-annual-slae-s
 tudent-and-faculty-research-conference-student-center-ballroom-930am-2-rct
 /
METHOD:PUBLISH
END:VEVENT
END:VCALENDAR