BEGIN:VCALENDAR
VERSION:2.0
PRODID:spatie/icalendar-generator
DESCRIPTION:Events from School of Liberal Arts
X-WR-CALDESC:Events from School of Liberal Arts
REFRESH-INTERVAL;VALUE=DURATION:PT1440M
X-PUBLISHED-TTL:PT1440M
BEGIN:VTIMEZONE
TZID:Etc/GMT+0
BEGIN:STANDARD
DTSTART:20240801T180000Z
TZOFFSETFROM:+0000
TZOFFSETTO:+0000
END:STANDARD
END:VTIMEZONE
BEGIN:VTIMEZONE
TZID:UTC
BEGIN:STANDARD
DTSTART:20250729T232127Z
TZOFFSETFROM:+0000
TZOFFSETTO:+0000
END:STANDARD
END:VTIMEZONE
BEGIN:VEVENT
UID:44-40
DTSTAMP:20260425T232127Z
SUMMARY:DeShaun Isaac Senior Recital in Phenix Hall Auditorium @ 6PM (1) RC
 T CREDIT
LOCATION:Phenix Hall Auditorium
ORGANIZER;CN=Dr. Demarr Woods:MAILTO:demarr.woods@hamptonu.edu
DTSTART;TZID=Etc/GMT+0:20250428T180000
DTEND;TZID=Etc/GMT+0:20250428T190000
X-ALT-DESC;FMTTYPE=TEXT/HTML:DeShaun Isaac Senior Recital in Phenix Hall Au
 ditorium @ 6PM (1) RCT CREDIT.
CATEGORIES:General
URL;VALUE=URI:https://home.hamptonu.edu/libarts/mc-events/deshaun-isaac-sen
 ior-recital-in-phenix-hall-auditorium-6pm-1-rct-credit/
METHOD:PUBLISH
END:VEVENT
END:VCALENDAR