BEGIN:VCALENDAR
VERSION:2.0
PRODID:spatie/icalendar-generator
DESCRIPTION:Events from School of Liberal Arts
X-WR-CALDESC:Events from School of Liberal Arts
REFRESH-INTERVAL;VALUE=DURATION:PT1440M
X-PUBLISHED-TTL:PT1440M
BEGIN:VTIMEZONE
TZID:Etc/GMT+0
BEGIN:STANDARD
DTSTART:20240801T190000Z
TZOFFSETFROM:+0000
TZOFFSETTO:+0000
END:STANDARD
END:VTIMEZONE
BEGIN:VTIMEZONE
TZID:UTC
BEGIN:STANDARD
DTSTART:20250729T232127Z
TZOFFSETFROM:+0000
TZOFFSETTO:+0000
END:STANDARD
END:VTIMEZONE
BEGIN:VEVENT
UID:45-41
DTSTAMP:20260425T232127Z
SUMMARY:Jasmine Bowens Senior Recital in Phenix Hall Auditorium @ 7PM (1) R
 CT CREDIT
LOCATION:Phenix Hall Auditorium
ORGANIZER;CN=Dr. Demarr Woods:MAILTO:demarr.woods@hamptonu.edu
DTSTART;TZID=Etc/GMT+0:20250428T190000
DTEND;TZID=Etc/GMT+0:20250428T200000
X-ALT-DESC;FMTTYPE=TEXT/HTML:Jasmine Bowens Senior Recital in Phenix Hall A
 uditorium @ 7PM (1) RCT CREDIT.
CATEGORIES:General
URL;VALUE=URI:https://home.hamptonu.edu/libarts/mc-events/jasmine-bowens-se
 nior-recital-in-phenix-hall-auditorium-7pm-1-rct-credit/
METHOD:PUBLISH
END:VEVENT
END:VCALENDAR