BEGIN:VCALENDAR
VERSION:2.0
PRODID:spatie/icalendar-generator
DESCRIPTION:Events from School of Liberal Arts
X-WR-CALDESC:Events from School of Liberal Arts
REFRESH-INTERVAL;VALUE=DURATION:PT1440M
X-PUBLISHED-TTL:PT1440M
BEGIN:VTIMEZONE
TZID:Etc/GMT+0
BEGIN:STANDARD
DTSTART:20240802T170000Z
TZOFFSETFROM:+0000
TZOFFSETTO:+0000
END:STANDARD
END:VTIMEZONE
BEGIN:VTIMEZONE
TZID:UTC
BEGIN:STANDARD
DTSTART:20250729T232127Z
TZOFFSETFROM:+0000
TZOFFSETTO:+0000
END:STANDARD
END:VTIMEZONE
BEGIN:VEVENT
UID:47-43
DTSTAMP:20260425T232127Z
SUMMARY:Langston Jackson and Amir Martin Joint Senior (MAP) Recital 04/29/2
 025 @ 5pm in Phenix Auditorium
LOCATION:Phenix Hall Auditorium
ORGANIZER;CN=Dr. Demarr Woods:MAILTO:demarr.woods@hamptonu.edu
DTSTART;TZID=Etc/GMT+0:20250429T170000
DTEND;TZID=Etc/GMT+0:20250429T180000
X-ALT-DESC;FMTTYPE=TEXT/HTML:
CATEGORIES:General
URL;VALUE=URI:https://home.hamptonu.edu/libarts/mc-events/langston-jackson-
 and-amir-martin-joint-senior-map-recital-04-29-2025-5pm-in-phenix-auditori
 um/
METHOD:PUBLISH
END:VEVENT
END:VCALENDAR