BEGIN:VCALENDAR
VERSION:2.0
PRODID:spatie/icalendar-generator
DESCRIPTION:Events from School of Liberal Arts
X-WR-CALDESC:Events from School of Liberal Arts
REFRESH-INTERVAL;VALUE=DURATION:PT1440M
X-PUBLISHED-TTL:PT1440M
BEGIN:VTIMEZONE
TZID:Etc/GMT+0
BEGIN:STANDARD
DTSTART:20240728T193000Z
TZOFFSETFROM:+0000
TZOFFSETTO:+0000
END:STANDARD
END:VTIMEZONE
BEGIN:VTIMEZONE
TZID:UTC
BEGIN:STANDARD
DTSTART:20250729T181755Z
TZOFFSETFROM:+0000
TZOFFSETTO:+0000
END:STANDARD
END:VTIMEZONE
BEGIN:VEVENT
UID:48-44
DTSTAMP:20260425T181755Z
SUMMARY:JAZZ WEEK:  Christopher Newport University Jazz Ensemble-Thursday\,
  04/24/2025 7:30PM OGDEN (1) CREDIT
LOCATION:OGDEN HALL
ORGANIZER;CN=Dr. Demarr Woods:MAILTO:demarr.woods@hamptonu.edu
DTSTART;TZID=Etc/GMT+0:20250424T193000
DTEND;TZID=Etc/GMT+0:20250424T210000
X-ALT-DESC;FMTTYPE=TEXT/HTML:Christopher Newport University Jazz Ensemble-T
 hursday\, 04/24/2025 7:30PM OGDEN (1) CREDIT.
CATEGORIES:General
URL;VALUE=URI:https://home.hamptonu.edu/libarts/mc-events/jazz-week-christo
 pher-newport-university-jazz-ensemble-thursday-04-24-2025-730pm-ogden-1-cr
 edit/
METHOD:PUBLISH
END:VEVENT
END:VCALENDAR