BEGIN:VCALENDAR
VERSION:2.0
PRODID:spatie/icalendar-generator
DESCRIPTION:Events from School of Liberal Arts
X-WR-CALDESC:Events from School of Liberal Arts
REFRESH-INTERVAL;VALUE=DURATION:PT1440M
X-PUBLISHED-TTL:PT1440M
BEGIN:VTIMEZONE
TZID:Etc/GMT+0
BEGIN:STANDARD
DTSTART:20240729T193000Z
TZOFFSETFROM:+0000
TZOFFSETTO:+0000
END:STANDARD
END:VTIMEZONE
BEGIN:VTIMEZONE
TZID:UTC
BEGIN:STANDARD
DTSTART:20250725T214711Z
TZOFFSETFROM:+0000
TZOFFSETTO:+0000
END:STANDARD
END:VTIMEZONE
BEGIN:VEVENT
UID:49-45
DTSTAMP:20260421T214711Z
SUMMARY:JAZZ WEEK:  Higher Ground Jazz Ensemble-Friday\, 04/25/2025 7:30PM 
 OGDEN (1) CREDIT
LOCATION:OGDEN HALL
ORGANIZER;CN=Dr. Demarr Woods:MAILTO:demarr.woods@hamptonu.edu
DTSTART;TZID=Etc/GMT+0:20250425T193000
DTEND;TZID=Etc/GMT+0:20250425T210000
X-ALT-DESC;FMTTYPE=TEXT/HTML:JAZZ WEEK: Higher Ground Jazz Ensemble-Friday\
 , 04/25/2025 7:30PM OGDEN (1) CREDIT. &amp;nbsp\; &amp;nbsp\;
CATEGORIES:General
URL;VALUE=URI:https://home.hamptonu.edu/libarts/mc-events/jazz-week-higher-
 ground-jazz-ensemble-friday-04-25-2025-730pm-ogden-1-credit/
METHOD:PUBLISH
END:VEVENT
END:VCALENDAR