BEGIN:VCALENDAR
VERSION:2.0
PRODID:spatie/icalendar-generator
DESCRIPTION:Events from School of Liberal Arts
X-WR-CALDESC:Events from School of Liberal Arts
REFRESH-INTERVAL;VALUE=DURATION:PT1440M
X-PUBLISHED-TTL:PT1440M
BEGIN:VTIMEZONE
TZID:Etc/GMT+0
BEGIN:STANDARD
DTSTART:20240521T190000Z
TZOFFSETFROM:+0000
TZOFFSETTO:+0000
END:STANDARD
END:VTIMEZONE
BEGIN:VTIMEZONE
TZID:UTC
BEGIN:STANDARD
DTSTART:20250730T032600Z
TZOFFSETFROM:+0000
TZOFFSETTO:+0000
END:STANDARD
END:VTIMEZONE
BEGIN:VEVENT
UID:11-10
DTSTAMP:20260426T032600Z
SUMMARY:The Hampton Roads Jazz Lecture Series with Dr Rahsaan Barber (02/15
 /25) 7pm!
LOCATION:Hampton History Museum 120 Old Hampton Lane  Hampton  Virginia 236
 69
ORGANIZER;CN=Dr. Demarr Woods:MAILTO:demarr.woods@hamptonu.edu
DTSTART;TZID=Etc/GMT+0:20250215T190000
DTEND;TZID=Etc/GMT+0:20250215T200000
X-ALT-DESC;FMTTYPE=TEXT/HTML:TITLE:  Standing the Test of Time:  Celebrat
 ion of John Coltrane's Innovations Sixty Years After \"A Love Supreme.\"
CATEGORIES:General
URL;VALUE=URI:https://home.hamptonu.edu/libarts/mc-events/the-hampton-roads
 -jazz-lecture-series-with-dr-rahsaan-barber-02-15-25-7pm/
METHOD:PUBLISH
END:VEVENT
END:VCALENDAR