BEGIN:VCALENDAR
VERSION:2.0
PRODID:spatie/icalendar-generator
DESCRIPTION:Events from School of Liberal Arts
X-WR-CALDESC:Events from School of Liberal Arts
REFRESH-INTERVAL;VALUE=DURATION:PT1440M
X-PUBLISHED-TTL:PT1440M
BEGIN:VTIMEZONE
TZID:Etc/GMT+0
BEGIN:STANDARD
DTSTART:20240603T200000Z
TZOFFSETFROM:+0000
TZOFFSETTO:+0000
END:STANDARD
END:VTIMEZONE
BEGIN:VTIMEZONE
TZID:UTC
BEGIN:STANDARD
DTSTART:20250727T115734Z
TZOFFSETFROM:+0000
TZOFFSETTO:+0000
END:STANDARD
END:VTIMEZONE
BEGIN:VEVENT
UID:18-17
DTSTAMP:20260423T115734Z
SUMMARY:Sam-Art Williams' Home\, Directed by Dr. Robin Jackson Boisseau @ 8
 pm in Phenix Hall Auditorium (1) RCT Credit
LOCATION:Phenix Hall Auditorium
ORGANIZER;CN=Dr. Demarr Woods:MAILTO:demarr.woods@hamptonu.edu
DTSTART;TZID=Etc/GMT+0:20250228T200000
DTEND;TZID=Etc/GMT+0:20250228T213000
X-ALT-DESC;FMTTYPE=TEXT/HTML:Sam-Art Williams' Home\, Directed by Dr. Robin
  Jackson Boisseau @ 7pm in Phenix Hall Auditorium (1) RCT Credit.
CATEGORIES:General
URL;VALUE=URI:https://home.hamptonu.edu/libarts/mc-events/sam-art-williams-
 home-directed-by-dr-robin-jackson-boisseau-8pm-in-phenix-hall-auditorium-1
 -rct-credit/
METHOD:PUBLISH
END:VEVENT
END:VCALENDAR