BEGIN:VCALENDAR
VERSION:2.0
PRODID:spatie/icalendar-generator
DESCRIPTION:Events from School of Liberal Arts
X-WR-CALDESC:Events from School of Liberal Arts
REFRESH-INTERVAL;VALUE=DURATION:PT1440M
X-PUBLISHED-TTL:PT1440M
BEGIN:VTIMEZONE
TZID:Etc/GMT+0
BEGIN:STANDARD
DTSTART:20240703T150000Z
TZOFFSETFROM:+0000
TZOFFSETTO:+0000
END:STANDARD
END:VTIMEZONE
BEGIN:VTIMEZONE
TZID:UTC
BEGIN:STANDARD
DTSTART:20250727T134303Z
TZOFFSETFROM:+0000
TZOFFSETTO:+0000
END:STANDARD
END:VTIMEZONE
BEGIN:VEVENT
UID:23-22
DTSTAMP:20260423T134303Z
SUMMARY:A SOLIDER'S PLAY directed by Dr. Karen Turner Ward 03/30/2025 @ 3pm
  (1 RCT) Credit
LOCATION:American Theatre 125 E. Mellon St. Hampton Va. 23663
ORGANIZER;CN=Dr. Demarr Woods:MAILTO:demarr.woods@hamptonu.edu
DTSTART;TZID=Etc/GMT+0:20250330T150000
DTEND;TZID=Etc/GMT+0:20250330T170000
X-ALT-DESC;FMTTYPE=TEXT/HTML:A SOLIDER'S PLAY directed by Dr. Karen Turner 
 Ward 03/30/2025 @ 3pm (1 RCT) Credit
CATEGORIES:General
URL;VALUE=URI:https://home.hamptonu.edu/libarts/mc-events/a-soliders-play-d
 irected-by-dr-karen-turner-ward-03-30-2025-3pm-1-rct-credit/
METHOD:PUBLISH
END:VEVENT
END:VCALENDAR