BEGIN:VCALENDAR
VERSION:2.0
PRODID:spatie/icalendar-generator
DESCRIPTION:Events from Amazon Robotics
X-WR-CALDESC:Events from Amazon Robotics
REFRESH-INTERVAL;VALUE=DURATION:PT1440M
X-PUBLISHED-TTL:PT1440M
BEGIN:VTIMEZONE
TZID:America/New_York
BEGIN:DAYLIGHT
DTSTART:20210314T020000Z
TZOFFSETFROM:-0500
TZOFFSETTO:-0400
END:DAYLIGHT
BEGIN:STANDARD
DTSTART:20211107T020000Z
TZOFFSETFROM:-0400
TZOFFSETTO:-0500
END:STANDARD
END:VTIMEZONE
BEGIN:VTIMEZONE
TZID:UTC
BEGIN:STANDARD
DTSTART:20250723T194359Z
TZOFFSETFROM:+0000
TZOFFSETTO:+0000
END:STANDARD
END:VTIMEZONE
BEGIN:VEVENT
UID:2-2
DTSTAMP:20260419T194359Z
SUMMARY:Fall 2021 Kick-off Call | Amazon Robotics x Hampton University Coll
 aboration
LOCATION:
ORGANIZER;CN=Vince Bullock:MAILTO:vincent.bullock@hamptonu.edu
DTSTART;TZID=America/New_York:20210820T140000
DTEND;TZID=America/New_York:20210820T150000
X-ALT-DESC;FMTTYPE=TEXT/HTML:
CATEGORIES:General
URL;VALUE=URI:https://home.hamptonu.edu/robotics/mc-events/fall-2021-kick-o
 ff-call-amazon-robotics-x-hampton-university-collaboration/
METHOD:PUBLISH
END:VEVENT
END:VCALENDAR